BEGIN:VCALENDAR
VERSION:2.0
PRODID:-//Filmidee - ECPv6.15.20//NONSGML v1.0//EN
CALSCALE:GREGORIAN
METHOD:PUBLISH
X-WR-CALNAME:Filmidee
X-ORIGINAL-URL:https://filmidee.de
X-WR-CALDESC:Veranstaltungen für Filmidee
REFRESH-INTERVAL;VALUE=DURATION:PT1H
X-Robots-Tag:noindex
X-PUBLISHED-TTL:PT1H
BEGIN:VTIMEZONE
TZID:UTC
BEGIN:STANDARD
TZOFFSETFROM:+0000
TZOFFSETTO:+0000
TZNAME:UTC
DTSTART:20210101T000000
END:STANDARD
END:VTIMEZONE
BEGIN:VEVENT
DTSTART;VALUE=DATE:20220618
DTEND;VALUE=DATE:20220620
DTSTAMP:20260421T100539
CREATED:20220417T161226Z
LAST-MODIFIED:20220417T161226Z
UID:29174-1655510400-1655683199@filmidee.de
SUMMARY:Drehbuch-Seminar - Comedy\, Satire\, Slapstick
DESCRIPTION:Ein Wochenende lang wollen wir trainieren \n– wie Missverständnisse\, Doppeldeutigkeiten und Übertreibungen Lacher generieren\n– wie man auf witzige Weise Charaktere als Angeber\, Aufschneider und Lügner entlarvt\n– wie komische Pointen auch ernsthafte Szenen bereichern\n– wie man in traurigen Zeiten die Leute zum Lachen bringt
URL:https://filmidee.de/event/drehbuch-seminar-comedy-satire-slapstick/
LOCATION:Online\, Deutschland
ORGANIZER;CN="Filmschule Hamburg Berlin":MAILTO:info@filmschule-hamburg-berlin.de
END:VEVENT
END:VCALENDAR