BEGIN:VCALENDAR
VERSION:2.0
PRODID:-//Filmidee - ECPv6.15.20//NONSGML v1.0//EN
CALSCALE:GREGORIAN
METHOD:PUBLISH
X-ORIGINAL-URL:https://filmidee.de
X-WR-CALDESC:Veranstaltungen für Filmidee
REFRESH-INTERVAL;VALUE=DURATION:PT1H
X-Robots-Tag:noindex
X-PUBLISHED-TTL:PT1H
BEGIN:VTIMEZONE
TZID:UTC
BEGIN:STANDARD
TZOFFSETFROM:+0000
TZOFFSETTO:+0000
TZNAME:UTC
DTSTART:20210101T000000
END:STANDARD
END:VTIMEZONE
BEGIN:VEVENT
DTSTART;VALUE=DATE:20220625
DTEND;VALUE=DATE:20220627
DTSTAMP:20260419T154221
CREATED:20220417T155550Z
LAST-MODIFIED:20220417T155550Z
UID:29164-1656115200-1656287999@filmidee.de
SUMMARY:Rechercheseminar "Spannende Figuren"
DESCRIPTION:Krimis und Thriller sind immer nur so spannend wie ihr Bösewicht. Am seinem Antagonisten muss der Filmheld reifen\, und mit dessen Glaubwürdigkeit steht und fällt die Geschichte. Bestsellerautor Dr. med. Pablo Hagemeyer führt an diesem Wochenende in die Welt der Persönlichkeitsstörungen ein und zeigt\, wie sie sich für die Entwicklung fiktionaler Stoffe nutzen lässt. Der Facharzt für Psychiatrie und Psychotherapie baut Brücken zwischen Medizin und Filmbranche – für Autoren\, Produzenten\, Redakteure und alle\, die auf der Suche nach spannenden und glaubwürdigen Filmstoffen sind.
URL:https://filmidee.de/event/rechercheseminar-spannende-figuren/
LOCATION:Mediaschool Bayern\, München\, Rosenheimer Straße 145\, München\, Bayern\, 81671\, Deutschland
ATTACH;FMTTYPE=image/jpeg:https://filmidee.de/wp-content/uploads/2018/01/logo_muenchen.jpg
END:VEVENT
BEGIN:VEVENT
DTSTART;VALUE=DATE:20220625
DTEND;VALUE=DATE:20220627
DTSTAMP:20260419T154221
CREATED:20220417T161650Z
LAST-MODIFIED:20220417T161650Z
UID:29177-1656115200-1656287999@filmidee.de
SUMMARY:Einführung in das Drehbuchschreiben Teil I
DESCRIPTION:Sie haben filmische Geschichten im Kopf und wollen diese umsetzen? Dann benötigen Sie die entscheidenden Fähigkeiten ihre Geschichte spannend\, emotional und effektiv zu erzählen. Der Kurs vermittelt die Essenz des Drehbuchhandwerks. Oliver Schütte vermittelt die Kernpfeiler jedes Drehbuchs: Figuren\, Ziel und Bedürfnis\, Konflikt\, Charakterentwicklung und er vermittelt dramaturgisches Denken. Praktische Übungen und ausgesuchte Filmbeispiele geben Ihnen die Gelegenheit Ihrer Kreativität freien Lauf zu lassen. \nOliver Schütte\nOliver Schütte arbeitet seit 1986 als Autor für Film und Fernsehen. Für sein erstes Drehbuch »Koan« erhielt er 1988 den Deutschen Drehbuchpreis. Heute arbeitet er auch als Dramaturg für Produktionsfirmen und Autoren\, als Dozent an internationalen Filmhochschulen und als Publizist. Er ist Autor von »Die Kunst des Drehbuchlesens« und »Schau mir in die Augen\, Kleines«. Er ist Gründungsmitglied der Deutschen Filmakademie.
URL:https://filmidee.de/event/einfuehrung-in-das-drehbuchschreiben-teil-i/
LOCATION:Filmhaus Hamburg\, Friedensallee 7\, Hamburg\, 22765\, Deutschland
ORGANIZER;CN="Filmschule Hamburg Berlin":MAILTO:info@filmschule-hamburg-berlin.de
END:VEVENT
END:VCALENDAR