BEGIN:VCALENDAR
VERSION:2.0
PRODID:-//Filmidee - ECPv6.15.20//NONSGML v1.0//EN
CALSCALE:GREGORIAN
METHOD:PUBLISH
X-WR-CALNAME:Filmidee
X-ORIGINAL-URL:https://filmidee.de
X-WR-CALDESC:Veranstaltungen für Filmidee
REFRESH-INTERVAL;VALUE=DURATION:PT1H
X-Robots-Tag:noindex
X-PUBLISHED-TTL:PT1H
BEGIN:VTIMEZONE
TZID:UTC
BEGIN:STANDARD
TZOFFSETFROM:+0000
TZOFFSETTO:+0000
TZNAME:UTC
DTSTART:20170101T000000
END:STANDARD
END:VTIMEZONE
BEGIN:VEVENT
DTSTART;VALUE=DATE:20240608
DTEND;VALUE=DATE:20240610
DTSTAMP:20260425T132130
CREATED:20240421T094108Z
LAST-MODIFIED:20240512T190123Z
UID:29237-1717804800-1717977599@filmidee.de
SUMMARY:LEKTORIEREN VON DREHBÜCHERN
DESCRIPTION:Drehbuchlektorate dienen oft der Entscheidungsfindung von Produktionsfirmen und Förderstellen\, gleichzeitig werden sie auch bei Einstiegspositionen in der Branche häufig von den Mitarbeitenden verlangt. Frank Raki\, Lektor\, Script Doctor und Leiter unseres STOFF.labs 2016/17\, zeigt an diesem Wochenende am 08. und 09. Juni den Weg zur Erstellung eines professionellen Lektorats. Neben grundsätzlichen Begrifflichkeiten und der Besprechung der wichtigsten dramaturgischen Modelle bietet das Seminar unabdingbare Informationen zu Branche und Markt und wird mit praktischen Übungen abgerundet. Auch für Drehbuchautor*innen geeignet\, die wissen wollen\, worauf es ankommt.
URL:https://filmidee.de/event/lektorieren-von-drehbuechern/
LOCATION:FatCat-Zwischennutzung im ehem. Gasteig\, Kellerstr. 8a\, München\, Bayern\, 81667\, Deutschland
ATTACH;FMTTYPE=image/jpeg:https://filmidee.de/wp-content/uploads/2018/01/logo_muenchen.jpg
END:VEVENT
BEGIN:VEVENT
DTSTART;VALUE=DATE:20240518
DTEND;VALUE=DATE:20240520
DTSTAMP:20260425T132130
CREATED:20240421T093821Z
LAST-MODIFIED:20240421T093821Z
UID:29235-1715990400-1716163199@filmidee.de
SUMMARY:ChatGPT FÜR DREHBUCHAUTOR*INNEN
DESCRIPTION:In diesem Seminar werden die Teilnehmenden angeleitet\, wie man Künstliche Intelligenz (KI) am Beispiel von ChatGPT in der Drehbucherstellung gezielt nutzen kann. In den zwei Seminartagen geht es darum\, die KI nicht als Bedrohung\, sondern als wichtige Unterstützung im kreativen Prozess zu sehen. Zusammen mit den Teilnehmenden analysiert Dozent Martin Thau Drehbuch-Plots mit Hilfe der KI und generiert Bausteine. Dabei gilt es\, mit der richtigen Fragetechnik die Antworten der KI gezielt zu nutzen und diese dann als Elemente in die eigene unverwechsbare Geschichte einzubauen.
URL:https://filmidee.de/event/chatgpt-fuer-drehbuchautorinnen/
LOCATION:Bayern
END:VEVENT
BEGIN:VEVENT
DTSTART;VALUE=DATE:20240511
DTEND;VALUE=DATE:20240513
DTSTAMP:20260425T132130
CREATED:20240421T094903Z
LAST-MODIFIED:20240421T095240Z
UID:29239-1715385600-1715558399@filmidee.de
SUMMARY:DREHBUCHHANDWERK
DESCRIPTION:Die richtigen Techniken sind neben Kreativität auch beim Drehbuchschreiben essentiell. In unserem arbeitsintensiven Basis-Seminar Drehbuchhandwerk am 11. und 12. Mai vermittelt Dozent und Dramaturg Frank Raki Grundwissen für angehende Drehbuchautor*innen und frischt zugleich die Fähigkeiten fortgeschrittener Autor*innen\, Lektor*innen\, Producer*innen und anderer Filmschaffender wieder auf. Es werden die Grundlagen filmischen Erzählens behandelt\, das Drehbuchformat\, und die wichtigsten Werkzeuge werden vorgestellt: Konfliktdramaturgie und Drei-Akt-Struktur\, Heldenreise und Archetypen\, horizontales und vertikales Erzählen\, Spannung\, Szenenbau\, Charakterentwicklung und Dialogführung. Erweitert wird das Programm durch vielfältige Informationen zum Berufsbild „Drehbuchautor*in“\, zum Verkauf von Filmstoffen und zu Präsentationsformen vom Pitch über das Exposé zum Treatment. Filmbeispiele und praktische Übungen runden das Seminar ab. \nMit den Grundlagen des fiktionalen Erzählens aus diesem Seminar kann sich jede*r Autor*in mit Elan seinem Drehbuch widmen und bekommt Ansatzpunkte an die Hand\, um die ein oder andere Unsicherheit oder Schreibblockade überwinden zu können.
URL:https://filmidee.de/event/drehbuchhandwerk/
LOCATION:FatCat-Zwischennutzung im ehem. Gasteig\, Kellerstr. 8a\, München\, Bayern\, 81667\, Deutschland
ATTACH;FMTTYPE=image/jpeg:https://filmidee.de/wp-content/uploads/2018/01/logo_muenchen.jpg
END:VEVENT
BEGIN:VEVENT
DTSTART;VALUE=DATE:20220625
DTEND;VALUE=DATE:20220627
DTSTAMP:20260425T132130
CREATED:20220417T161650Z
LAST-MODIFIED:20220417T161650Z
UID:29177-1656115200-1656287999@filmidee.de
SUMMARY:Einführung in das Drehbuchschreiben Teil I
DESCRIPTION:Sie haben filmische Geschichten im Kopf und wollen diese umsetzen? Dann benötigen Sie die entscheidenden Fähigkeiten ihre Geschichte spannend\, emotional und effektiv zu erzählen. Der Kurs vermittelt die Essenz des Drehbuchhandwerks. Oliver Schütte vermittelt die Kernpfeiler jedes Drehbuchs: Figuren\, Ziel und Bedürfnis\, Konflikt\, Charakterentwicklung und er vermittelt dramaturgisches Denken. Praktische Übungen und ausgesuchte Filmbeispiele geben Ihnen die Gelegenheit Ihrer Kreativität freien Lauf zu lassen. \nOliver Schütte\nOliver Schütte arbeitet seit 1986 als Autor für Film und Fernsehen. Für sein erstes Drehbuch »Koan« erhielt er 1988 den Deutschen Drehbuchpreis. Heute arbeitet er auch als Dramaturg für Produktionsfirmen und Autoren\, als Dozent an internationalen Filmhochschulen und als Publizist. Er ist Autor von »Die Kunst des Drehbuchlesens« und »Schau mir in die Augen\, Kleines«. Er ist Gründungsmitglied der Deutschen Filmakademie.
URL:https://filmidee.de/event/einfuehrung-in-das-drehbuchschreiben-teil-i/
LOCATION:Filmhaus Hamburg\, Friedensallee 7\, Hamburg\, 22765\, Deutschland
ORGANIZER;CN="Filmschule Hamburg Berlin":MAILTO:info@filmschule-hamburg-berlin.de
END:VEVENT
BEGIN:VEVENT
DTSTART;VALUE=DATE:20220625
DTEND;VALUE=DATE:20220627
DTSTAMP:20260425T132130
CREATED:20220417T155550Z
LAST-MODIFIED:20220417T155550Z
UID:29164-1656115200-1656287999@filmidee.de
SUMMARY:Rechercheseminar "Spannende Figuren"
DESCRIPTION:Krimis und Thriller sind immer nur so spannend wie ihr Bösewicht. Am seinem Antagonisten muss der Filmheld reifen\, und mit dessen Glaubwürdigkeit steht und fällt die Geschichte. Bestsellerautor Dr. med. Pablo Hagemeyer führt an diesem Wochenende in die Welt der Persönlichkeitsstörungen ein und zeigt\, wie sie sich für die Entwicklung fiktionaler Stoffe nutzen lässt. Der Facharzt für Psychiatrie und Psychotherapie baut Brücken zwischen Medizin und Filmbranche – für Autoren\, Produzenten\, Redakteure und alle\, die auf der Suche nach spannenden und glaubwürdigen Filmstoffen sind.
URL:https://filmidee.de/event/rechercheseminar-spannende-figuren/
LOCATION:Mediaschool Bayern\, München\, Rosenheimer Straße 145\, München\, Bayern\, 81671\, Deutschland
ATTACH;FMTTYPE=image/jpeg:https://filmidee.de/wp-content/uploads/2018/01/logo_muenchen.jpg
END:VEVENT
BEGIN:VEVENT
DTSTART;VALUE=DATE:20220618
DTEND;VALUE=DATE:20220620
DTSTAMP:20260425T132130
CREATED:20220417T161226Z
LAST-MODIFIED:20220417T161226Z
UID:29174-1655510400-1655683199@filmidee.de
SUMMARY:Drehbuch-Seminar - Comedy\, Satire\, Slapstick
DESCRIPTION:Ein Wochenende lang wollen wir trainieren \n– wie Missverständnisse\, Doppeldeutigkeiten und Übertreibungen Lacher generieren\n– wie man auf witzige Weise Charaktere als Angeber\, Aufschneider und Lügner entlarvt\n– wie komische Pointen auch ernsthafte Szenen bereichern\n– wie man in traurigen Zeiten die Leute zum Lachen bringt
URL:https://filmidee.de/event/drehbuch-seminar-comedy-satire-slapstick/
LOCATION:Online\, Deutschland
ORGANIZER;CN="Filmschule Hamburg Berlin":MAILTO:info@filmschule-hamburg-berlin.de
END:VEVENT
BEGIN:VEVENT
DTSTART;VALUE=DATE:20220611
DTEND;VALUE=DATE:20220613
DTSTAMP:20260425T132130
CREATED:20220417T160525Z
LAST-MODIFIED:20220417T160525Z
UID:29170-1654905600-1655078399@filmidee.de
SUMMARY:Drehvorbereitungen für einen Spielfilm / Konzeptvorbereitungen
DESCRIPTION:Ein Regisseur muss Fragen beantworten. Was ist das für ein Film? Eine Komödie. Was für eine Komödie? Albern? Smart? Schwarz? Romantisch? Wann wollen wir drehen? Wen willst du besetzen? Wer ist die Hauptfigur in der Szene? Wann bewegt sich die Kamera auf die Helden zu? Willst du die Szene wirklich noch vor dem Mittag drehen? \nWenn der Film fertig gemischt ist\, hat der Regisseur tausende von Fragen beantwortet. Oft unter zeitlichem Druck. Wie kommt ein Regisseur zu guten Antworten? In dem er sich schon Monate vor Drehbeginn selbst befragt. \nIn dem Seminar werde ich vorstellen\, wie ich in 6 Monaten für den Spielfilm „Beule“ Fragen zu den Charakteren beantwortet habe\, wie ich mit Hilfe des Coppola-Konzeptes (Ein Fragen-Katalog) jede Szene untersucht habe\, wie der Kameramann und ich ein Storyboard entwickelten und wie ich die Arbeit mit den Schauspielern vorbereitet habe. \nDie Antworten\, die man in diesen sechs Monaten erarbeitet\, verbessern den Film enorm! \nIn dem Seminar werden die Teilnehmer Fragen zu Szenen bearbeiten\, eine Auflösung zeichnen und den Dialog und die Handlungen für die Schauspielarbeit vorbereiten.
URL:https://filmidee.de/event/drehvorbereitungen-fuer-einen-spielfilm-konzeptvorbereitungen/
LOCATION:Filmhaus Hamburg\, Friedensallee 7\, Hamburg\, 22765\, Deutschland
ATTACH;FMTTYPE=image/png:https://filmidee.de/wp-content/uploads/2022/04/FHB_Logo.png
ORGANIZER;CN="Filmschule Hamburg Berlin":MAILTO:info@filmschule-hamburg-berlin.de
END:VEVENT
BEGIN:VEVENT
DTSTART;VALUE=DATE:20200908
DTEND;VALUE=DATE:20200914
DTSTAMP:20260425T132130
CREATED:20200118T132731Z
LAST-MODIFIED:20200322T183827Z
UID:29043-1599523200-1600041599@filmidee.de
SUMMARY:32. Filmfest Dresden
DESCRIPTION:Termin verlegt!\nErster Filme in den Sonderprogrammen des 32. Filmfest Dresden: Auf den Spuren des Unsagbaren \nMehr als 2.900 Einreichungen // Tribut Omer Fast // Retro: Regisseurinnen in der DDR // Fokus Québec //\nJetzt voraussichtlich im September lädt das 32. Filmfest Dresden erneut filmbegeisterte Zuschauer*innen und interessiertes Fachpublikum zu einem spannenden Programm der besten Kurzfilme aus aller Welt in die sächsische Landeshauptstadt ein. Über die erstmalig genutzte Plattform Shortfilmdepot erreichten die Auswahlkommissionen über 2.900 Einreichungen für den Nationalen und Internationalen Wettbewerb\, darunter 1.883 Spielfilme\, 507 Animationsfilme\, 216 Experimentalfilme und 299 Dokumentarfilme. In diesem Jahr werden in den Wettbewerben erneut Preisgelder im Gesamtwert von über 67.000 Euro vergeben. Das vollständige Programm gibt das Team um Festivalleiterin Sylke Gottlebe bei der Pressekonferenz am 24. März in der Schauburg bekannt. \nVeranstaltungsorte
URL:https://filmidee.de/event/32-filmfest-dresden/
LOCATION:Dresden\, Dresden
ATTACH;FMTTYPE=image/jpeg:https://filmidee.de/wp-content/uploads/2020/01/Dfilmfest.jpg
ORGANIZER;CN="Filminitiative Dresden e. V":MAILTO:info@filmfest-dresden.de
END:VEVENT
BEGIN:VEVENT
DTSTART;VALUE=DATE:20190928
DTEND;VALUE=DATE:20190930
DTSTAMP:20260425T132130
CREATED:20190831T051841Z
LAST-MODIFIED:20190831T051841Z
UID:28950-1569628800-1569801599@filmidee.de
SUMMARY:NoBudget-Filmproduktion in der Praxis
DESCRIPTION:Dieser Wochenend-Workshop bringt kreativen Talenten die Beherrschung der kaufmännischen\, finanziellen\, organisatorischen und administrativen Belange einer Filmproduktion nahe. Er richtet sich an alle Filmemacher und jene\, die es werden wollen\, die ohne oder fast ohne Zugang zu den klassischen Finanzierungsinstrumenten wie TV-Koproduktion\, Filmförderung und Vorabverkäufen ein Filmprojekt realisieren wollen – sei es zu Ausbildungszwecken\, als Hobby\, als Visitenkarte\, um Erfahrungen zu sammeln oder auch\, um aus der herrschenden Ökonomie auszubrechen und als Produzent an der Vermarktung der eigenen Produktion zu verdienen… \nIm Laufe des Wochenendes werden dabei je nach Vorwissen und Interesse der Teilnehmer quasi alle Stadien der Herstellung und Vermarktung eines fiktionalen Filmprojekts besprochen – jeweils kurz grundlegend und ausführlich zur speziellen Problemstellung der “micro budget”-Situation. Dabei geht es u.a. um folgende Fragen: \n• Wie verschaffe ich mir einen Überblick\, was mein Filmprojekt kosten wird?\n• Welche Ausgaben kann ich vermeiden?\n• Wie erfüllen Rückstellungen die Anforderungen des Mindestlohngesetzes?\n• Welche Finanzierungsquellen kommen für welchen Film in Frage?\n• Wie schafft man günstige Voraussetzungen für eine Bewilligung von Fördergeldern?\n• Wer kauft warum welche fertigen Filme?\n• Was sind Exklusivität\, Territorien\, Laufzeiten und Medien?\n• Welche Verträge muß der Filmemacher mit den Beteiligten geschlossen haben\, um den Film verwerten zu können? \nAuf diese Weise wird das Seminar die Teilnehmer in die Lage versetzen\, eigene Projekte durchzudenken und anzugehen\, auch wenn die Ausgangsvoraussetzungen schwierig scheinen mögen\, und verfolgt dabei genau einen Zweck: aufzuzeigen\, daß (und wie) es doch geht. \nQuelle: Filmhaus Frankfurt
URL:https://filmidee.de/event/nobudget-filmproduktion-in-der-praxis/
LOCATION:Filmhaus Frankfurt\, Fahrgasse 89\, Frankfurt am Main\, Hessen\, 60311\, Deutschland
ORGANIZER;CN="Filmhaus Frankfurt":MAILTO:info@filmhaus-frankfurt.de
END:VEVENT
BEGIN:VEVENT
DTSTART;VALUE=DATE:20190401
DTEND;VALUE=DATE:20190816
DTSTAMP:20260425T132130
CREATED:20181110T064255Z
LAST-MODIFIED:20181110T064341Z
UID:28886-1554076800-1565913599@filmidee.de
SUMMARY:Vollzeitlehrgang Cutter/in Film und TV
DESCRIPTION:Der 14-wöchige Vollzeitlehrgang Cutter/in Film und TV startet am 1. April 2019. Bei dem Kurs erhalten die Teilnehmer unter professioneller Anleitung all das Basis-Rüstzeug\, das sie auf dem Weg zum Editor benötigen. Dazu gehört die Vermittlung von breit aufgestelltem Grundwissen in den Bereichen Schnitt\, Sounddesign\, Motion Graphics und Farbkorrektur sowie Grundlagen zur Dramaturgie und zum szenischen Schnitt. Im Training arbeiten wir u.a. mit den Applikationen Premiere Pro\, Avid Media Composer\, After Effects\, DaVinci Resolve und Photoshop. \nNeben der theoretischen Schulung können die Teilnehmer an Praxistagen anhand von Übungsprojekten und betreut von Tutoren das erlernte Wissen vertiefen. Dafür steht jedem Teilnehmer ein eigener Schnittplatz zur Verfügung. \nUnsere Dozenten\, u.a. Uwe Wrobel und David Emmenlauer haben langjährige Erfahrung als Trainer und sind zudem auch gefragte Spezialisten in ihren jeweiligen Tätigkeitsbereichen. Dadurch vermitteln sie aktuelles Berufswissen und bringen stets die neuesten Entwicklungen in die Trainings ein. \nDer Lehrgang richtet sich an freiberufliche Film- und Fernsehschaffende wie auch an feste und freie Mitarbeiter von Sendern und Produktionsfirmen mit ersten Erfahrungen\, die ihre Kenntnisse erweitern und sich im Bereich Schnitt / Montage / Editing qualifizieren und weiterbilden wollen. \n„Voraussetzung ist vor allem ein Interesse am Geschichtenerzählen und Offenheit für Neues.“\, meint Uwe Wrobel\, der unseren Lehrgang organisiert. „Das Berufsbild des Cutters hat sich in den letzten Jahren stark verändert. Es reicht heute nicht mehr aus\, einfach Editor zu sein. Wir müssen auf viel mehr Ebenen kompetent sein. Neben Rhythmusgefühl\, Verständnis für Dramaturgie und Bildgestaltung wird heutzutage Know-How in Computertechnik\, Animation und Soundediting erwartet. Daher müssen wir uns ständig weiterbilden.“ \nDie Anmeldung für den Lehrgang Cutter/in Film und TV ab jetzt möglich. Alle Informationen zu den Inhalten\, Zeiten und natürlich auch den vielfältigen Finanzierungsmöglichkeiten\, z.B. durch einen Bildungsgutschein von der Agentur für Arbeit\, mit dem der Lehrgang bis zu 100% gefördert werden kann\, findet Ihr unter www.muenchner-filmwerkstatt.de/lehrgaenge/editor \nIhr könnt Uwe Wrobel auch direkt unter editor@muenchner-filmwerkstatt.de kontaktieren und einen persönlichen Beratungsgstermin ausmachen. \nMit freundlichen Grüßen aus der Filmwerkstatt\, \nAlex Avramovic\, Sascha Komisarova\, Velina Chekelova & Martin Blankemeyer
URL:https://filmidee.de/event/vollzeitlehrgang-cutter-in-film-und-tv/
LOCATION:Münchner Filmwerkstatt e.V.\, München\, 81632\, Deutschland
END:VEVENT
BEGIN:VEVENT
DTSTART;TZID=UTC:20181103T100000
DTEND;TZID=UTC:20181104T180000
DTSTAMP:20260425T132130
CREATED:20180714T043238Z
LAST-MODIFIED:20180714T043238Z
UID:28863-1541239200-1541354400@filmidee.de
SUMMARY:FILME DREHEN MIT KINDERN UND JUGENDLICHEN
DESCRIPTION:Was braucht man\, um ein Filmprojekt mit einer Schulklasse\, Jugendgruppe\, Video-AG oder ähnlich interessierten Gruppe anzugehen? In diesem Seminar vermittelt Rainer Niermann Lehrern\, Studenten\, Jugendgruppenleitern und anderen alles nötige Wissen\, um Filmprojekte mit Kindern und Jugendlichen erfolgreich zu planen und durchzuführen. Die Teilnehmer bekommen sehr praxisorientiert Einblicke in alle Aspekte einer Filmproduktion und erhalten wertvolle Informationen\, wie das Gelernte in der Arbeit mit Kindern und Jugendlichen umsetzbar ist. Das Seminar ist von der ALP-Dillingen als Lehrerfortbildung anerkannt.
URL:https://filmidee.de/event/filme-drehen-mit-kindern-und-jugendlichen/
LOCATION:afk tv\, München\, Rosenheimer Straße 145 / 4. Stock\, München\, Bayern\, 81671\, Deutschland
ATTACH;FMTTYPE=image/png:https://filmidee.de/wp-content/uploads/2018/01/afk-tv-logo.png
END:VEVENT
BEGIN:VEVENT
DTSTART;TZID=UTC:20181020T100000
DTEND;TZID=UTC:20181021T180000
DTSTAMP:20260425T132130
CREATED:20180714T044707Z
LAST-MODIFIED:20180714T044734Z
UID:28865-1540029600-1540144800@filmidee.de
SUMMARY:GELDQUELLEN FÜR DREHBUCHAUTOREN
DESCRIPTION:Daniel Wolf\, der als Autor Drehbücher für Reality Soaps genauso wie den „Tatort“ geschrieben hat\, vermittelt an diesem Wochenende das für erfolgreiche Drehbuchautoren unabdingliche Branchenwissen und erläutert den Markt mit seinen Spielregeln und Möglichkeiten. Von A wie Arbeitsalltag über F wie Fördermodelle bis Z wie Zusammenarbeit. Das Seminar richtet sich sowohl an junge Autoren als auch an erfahrene Schreiberlinge\, die ihre Finanzierungsmöglichkeiten erweitern wollen!
URL:https://filmidee.de/event/geldquellen-fuer-drehbuchautoren-2/
LOCATION:afk tv\, München\, Rosenheimer Straße 145 / 4. Stock\, München\, Bayern\, 81671\, Deutschland
ATTACH;FMTTYPE=image/png:https://filmidee.de/wp-content/uploads/2018/01/afk-tv-logo.png
END:VEVENT
BEGIN:VEVENT
DTSTART;TZID=UTC:20180915T100000
DTEND;TZID=UTC:20180916T180000
DTSTAMP:20260425T132130
CREATED:20180218T192145Z
LAST-MODIFIED:20180218T192356Z
UID:28813-1537005600-1537120800@filmidee.de
SUMMARY:Geldquellen für Drehbuchautoren
DESCRIPTION:Die Arbeit als Drehbuchautor erscheint gerade Brancheneinsteigern als Traumjob – doch erfahrene Autoren wissen\, dass ein fundiertes Branchenverständnis und eine große Portion Know-How unerlässlich sind\, um auf dem Markt Fuß fassen und bestehen zu können. In diesem Seminar werden Einsteigern und Autoren\, die ihren Erfolg optimieren wollen\, das essentielle Insiderwissen und die notwendigen Tricks und Kniffe vermittelt\, um für die Branche gerüstet zu sein. \nDas Seminar verschafft einen Überblick über die verschiedenen Fördereinrichtungen\, Institutionen und Abnehmer auf dem Markt und klärt\, welche Finanzierungsarten- und modelle in welcher Situation am meisten Sinn machen. Um sich den Launen und Unwägbarkeiten der Branche und ihrer Protagonisten souverän stellen zu können wird der sichere und souveräne Umgang mit Produzenten\, Redakteuren und anderen Auftraggebern trainiert. Und last but not least dreht sich natürlich alles rund um den Arbeitsalltag als Autor: Kann\, sollte oder muss man nebenbei noch arbeiten? Welche Modelle sind möglich oder vielleicht sogar unerlässlich? Diese und viele weitere Fragen und Themenstellungen werden im Seminar behandelt\, damit man sich\, seine Arbeit und sein Drehbuch als Autor finanziert bekommt. \nHinweis Teilnehmerbeitrag: (Bei Zahlungseingang bis zum 31.08.2018 ermäßigt auf 220\,00 €)
URL:https://filmidee.de/event/geldquellen-fuer-drehbuchautoren/
LOCATION:afk tv\, München\, Rosenheimer Straße 145 / 4. Stock\, München\, Bayern\, 81671\, Deutschland
ATTACH;FMTTYPE=image/jpeg:https://filmidee.de/wp-content/uploads/2018/01/logo_muenchen.jpg
END:VEVENT
BEGIN:VEVENT
DTSTART;TZID=UTC:20180203T100000
DTEND;TZID=UTC:20180204T180000
DTSTAMP:20260425T132130
CREATED:20180127T065426Z
LAST-MODIFIED:20180127T065426Z
UID:28784-1517652000-1517767200@filmidee.de
SUMMARY:FILMGESCHÄFTSFÜHRUNG
DESCRIPTION:Buchhaltung\, Kostenrechnung und Gagenabrechnung sind die Kernbereiche der Filmgeschäftsführung. Markus Yagapen stellt die Grundlagen systematisch dar und erläutert praxisnah die Spezialprobleme\, die es zu bewältigen gilt – natürlich unter Berücksichtigung der aktuellen Entwicklungen. Dieses Seminar richtet sich nicht nur an Teilnehmer\, deren eigene berufliche Tätigkeit oder Perspektive im Bereich Filmgeschäftsführung liegt\, sondern auch an Produzenten\, Controller\, Herstellungs- und Produktionsleiter\, die sich fundierte Kenntnisse in diesem Bereich aneignen wollen.\nwww.filmseminare.de/filmgeschaeftsfuehrung
URL:https://filmidee.de/event/filmgeschaeftsfuehrung/
LOCATION:Münchner Filmwerkstatt e.V.\, München\, 81632\, Deutschland
ATTACH;FMTTYPE=image/jpeg:https://filmidee.de/wp-content/uploads/2018/01/logo_muenchen.jpg
END:VEVENT
BEGIN:VEVENT
DTSTART;TZID=UTC:20180126T140000
DTEND;TZID=UTC:20180128T170000
DTSTAMP:20260425T132130
CREATED:20170930T161053Z
LAST-MODIFIED:20170930T162320Z
UID:4565-1516975200-1517158800@filmidee.de
SUMMARY:Einführung in das Drehbuchschreiben
DESCRIPTION:Kompakte Vermittlung der Grundlagen.\n26.01.2018 – 28.01.2018\, Ort: Berlin\nZeiten: Freitag 14 – ca. 18 Uhr / Samstag 10 – ca. 17 Uhr / Sonntag 10 – ca. 17 Uhr\nEs spielt keine Rolle\, ob sie an einem Spielfilm\, einem TV-Movie oder sogar einem Kurzfilm arbeiten. Sie benötigen die entscheidenden Fähigkeiten ihre Geschichte spannend\, emotional und effektiv zu erzählen. Der Kurs vermittelt die Essenz des Drehbuchhandwerks.\nZweieinhalb Tage intensive Arbeit mit praktischen Übungen als Wegweiser für Anfänger und Umsteiger. Oliver Schütte vermittelt die Kernpfeiler jedes Drehbuchs Figuren\, Ziel und Bedürfnis\, Konflikt\, Charakterentwicklung und vermittelt dramaturgisches Denken. Die Teilnehmer erhalten ebenso eine Einführung in den klassischen Drei-Akt-Aufbau einer Geschichte. Filmbeispiele ergänzen anschaulich die theoretischen Grundlagen.\nDie Teilnehmer erhalten einen Einblick in die Drehbuchentwicklung und können ihre eigenen Idee vorantreiben. \n 
URL:https://filmidee.de/event/einfuehrung-in-das-drehbuchschreiben/
LOCATION:dffb\, Berlin\, Potsdamer Str. 2\, Berlin\, 10785\, Deutschland
ORGANIZER;CN="Filmschule Hamburg Berlin":MAILTO:info@filmschule-hamburg-berlin.de
END:VEVENT
BEGIN:VEVENT
DTSTART;VALUE=DATE:20180120
DTEND;VALUE=DATE:20180122
DTSTAMP:20260425T132130
CREATED:20180106T174337Z
LAST-MODIFIED:20180106T174337Z
UID:28729-1516406400-1516579199@filmidee.de
SUMMARY:DER GUTE TON
DESCRIPTION:Während oft alle Energie bei Dreharbeiten auf die Qualität des Bildes gerichtet wird\, verzeiht der Zuschauer nichts so wenig wie einen schlechten Ton. Marc Parisotto\, als Tonmeister u.a. ausgezeichnet mit dem Deutschen und dem Österreichischen Filmpreis\, zeigt den Teilnehmern im Rahmen dieses Wochenendes von der Pike auf\, wie man die richtige Equipmentauswahl trifft\, einen guten O-Ton am Drehort aufnimmt und die Anforderungen der Postproduktion umsetzt. Dabei finden die Bedingungen von EB- und Low-Budget-Produktionen genauso Berücksichtigung wie die Anforderungen der Profis.
URL:https://filmidee.de/event/der-gute-ton/
LOCATION:afk tv\, München\, Rosenheimer Straße 145 / 4. Stock\, München\, Bayern\, 81671\, Deutschland
END:VEVENT
BEGIN:VEVENT
DTSTART;TZID=UTC:20180119T100000
DTEND;TZID=UTC:20180120T180000
DTSTAMP:20260425T132130
CREATED:20181110T064947Z
LAST-MODIFIED:20181110T064947Z
UID:28888-1516356000-1516471200@filmidee.de
SUMMARY:Das Geheimnis mitreißender Drehbücher
DESCRIPTION:Genie\, schrieb Thomas Alva Edison\, ist ein Prozent Inspiration und neunundneunzig Prozent Transpiration – und ganz ähnlich ist es auch mit dem Drehbuchschreiben. Dieses Seminar vermittelt erstmals das Fundament\, auf welchem alle weiteren Formen – von der Drei-Akt-Struktur bis zur Heldenreise\, von Aristoteles bis Syd Field errichtet sind. \nDenn\nKino\, Fernsehen\, nun auch Internet – eine Bedingung fürs Filmemachen bleibt dieselbe: die packende Geschichte!\nLernen Sie\, was Ihr Zuschauer (meist ohne sich darüber im Klaren zu sein) auf jeden Fall von Ihrem Drehbuch erwartet\, und wie Sie es deswegen immer schaffen können\, dass er Ihnen “aus der Hand frißt”.\nBegreifen Sie die effektive Ergänzung Komödie/Drama und den gratis darin bereitliegenden Nutzen für Ihren Erzähl-Erfolg.\nVerstehen Sie\, wie jede mitreißende Handlung Ihren Zuschauer entweder auf eine Entscheidung oder eine Erklärung spannen muss. Was dem für unterschiedliche Genres entspringen. Warum alles\, was nicht Krimi ist\, einen Kampf beinhalten muss. Und was das Drama trotz allem dem Sport immer voraus haben wird.\nDas Seminar schult Sie zum versierten Erzähl-Taktiker. Nie mehr werden Sie ratlos vor einer nicht-funktionierenden Geschichte stehen.\nHandreichung: eine praktische Drehbuch-Fibel (hilft Ihnen beim Schöpfen und Überprüfen Ihres Drehbuchs).
URL:https://filmidee.de/event/das-geheimnis-mitreissender-drehbuecher-2/
LOCATION:Münchner Filmwerkstatt e.V.\, München\, 81632\, Deutschland
END:VEVENT
BEGIN:VEVENT
DTSTART;VALUE=DATE:20180113
DTEND;VALUE=DATE:20180115
DTSTAMP:20260425T132130
CREATED:20180106T173726Z
LAST-MODIFIED:20180106T173726Z
UID:28727-1515801600-1515974399@filmidee.de
SUMMARY:Das Geheimnis mitreißender Drehbücher
DESCRIPTION:Martin Thau\, der seit 20 Jahren die Studien der Drehbuchwerkstatt an der Hochschule für Fernsehen und Film München leitet\, führt an diesem Wochenende in das Geheimnis mitreißender Drehbücher ein. Dabei dreht sich alles um die beiden Komponenten „Spannung“ und „Konflikt“ – und wie man diese beiden Faktoren erreicht\, erläutert Thau anhand vielfältiger Filmbeispiele in Theorie und Praxis.
URL:https://filmidee.de/event/das-geheimnis-mitreissender-drehbuecher/
LOCATION:Münchner Filmwerkstatt e.V.\, München\, 81632\, Deutschland
ATTACH;FMTTYPE=image/jpeg:https://filmidee.de/wp-content/uploads/2017/09/drbuch.jpg
END:VEVENT
END:VCALENDAR